BEGIN:VCALENDAR
VERSION:2.0
PRODID:-//CrabGrass - ECPv6.15.20//NONSGML v1.0//EN
CALSCALE:GREGORIAN
METHOD:PUBLISH
X-WR-CALNAME:CrabGrass
X-ORIGINAL-URL:http://crabgrassoh.com
X-WR-CALDESC:Events for CrabGrass
REFRESH-INTERVAL;VALUE=DURATION:PT1H
X-Robots-Tag:noindex
X-PUBLISHED-TTL:PT1H
BEGIN:VTIMEZONE
TZID:America/New_York
BEGIN:DAYLIGHT
TZOFFSETFROM:-0500
TZOFFSETTO:-0400
TZNAME:EDT
DTSTART:20250309T070000
END:DAYLIGHT
BEGIN:STANDARD
TZOFFSETFROM:-0400
TZOFFSETTO:-0500
TZNAME:EST
DTSTART:20251102T060000
END:STANDARD
BEGIN:DAYLIGHT
TZOFFSETFROM:-0500
TZOFFSETTO:-0400
TZNAME:EDT
DTSTART:20260308T070000
END:DAYLIGHT
BEGIN:STANDARD
TZOFFSETFROM:-0400
TZOFFSETTO:-0500
TZNAME:EST
DTSTART:20261101T060000
END:STANDARD
BEGIN:DAYLIGHT
TZOFFSETFROM:-0500
TZOFFSETTO:-0400
TZNAME:EDT
DTSTART:20270314T070000
END:DAYLIGHT
BEGIN:STANDARD
TZOFFSETFROM:-0400
TZOFFSETTO:-0500
TZNAME:EST
DTSTART:20271107T060000
END:STANDARD
END:VTIMEZONE
BEGIN:VEVENT
DTSTART;TZID=America/New_York:20260228T180000
DTEND;TZID=America/New_York:20260228T210000
DTSTAMP:20260422T182332
CREATED:20251008T145546Z
LAST-MODIFIED:20251008T145648Z
UID:1945-1772301600-1772312400@crabgrassoh.com
SUMMARY:Izaak Walton League
DESCRIPTION:
URL:http://crabgrassoh.com/event/izaak-walton-league
LOCATION:Izaak Walton League\, 21334 Foster Rd\, Wellington\, OH\, 44090\, United States
END:VEVENT
BEGIN:VEVENT
DTSTART;VALUE=DATE:20260523
DTEND;VALUE=DATE:20260525
DTSTAMP:20260422T182332
CREATED:20251106T160239Z
LAST-MODIFIED:20251106T160239Z
UID:1966-1779494400-1779667199@crabgrassoh.com
SUMMARY:Northern Indiana Bluegrass
DESCRIPTION:
URL:http://crabgrassoh.com/event/northern-indiana-bluegrass
LOCATION:Noble County Fairgrouds\, 580 Fair St\, Kendallville\, IN\, 46755\, United States
END:VEVENT
BEGIN:VEVENT
DTSTART;VALUE=DATE:20260612
DTEND;VALUE=DATE:20260614
DTSTAMP:20260422T182332
CREATED:20251008T150201Z
LAST-MODIFIED:20251008T150201Z
UID:1948-1781222400-1781395199@crabgrassoh.com
SUMMARY:WaterWorks Bluegrass Bash
DESCRIPTION:
URL:http://crabgrassoh.com/event/waterworks-bluegrass-bash-2
LOCATION:WaterWorks Park\, 711 W Findlay St\, Carey\, Ohio\, 43315
END:VEVENT
BEGIN:VEVENT
DTSTART;VALUE=DATE:20260808
DTEND;VALUE=DATE:20260809
DTSTAMP:20260422T182332
CREATED:20241001T131423Z
LAST-MODIFIED:20260126T202539Z
UID:1916-1786147200-1786233599@crabgrassoh.com
SUMMARY:Cuttin' Up the Creek Bluegrass Fest
DESCRIPTION:
URL:http://crabgrassoh.com/event/cuttin-up-the-creek
LOCATION:Elkin Creek Horse Camp\, 223 Twp Rd\, 245 East\, Pedro\, OH\, 45659\, United States
END:VEVENT
BEGIN:VEVENT
DTSTART;VALUE=DATE:20260919
DTEND;VALUE=DATE:20260920
DTSTAMP:20260422T182332
CREATED:20250416T154152Z
LAST-MODIFIED:20251118T200643Z
UID:1933-1789776000-1789862399@crabgrassoh.com
SUMMARY:SkinnyFest Bluegrass Festival
DESCRIPTION:
URL:http://crabgrassoh.com/event/skinnyfest-bluegrass-festival
LOCATION:Adams County Fairgrounds\, 836 Boyd Ave\, West Union\, Ohio\, 45693
END:VEVENT
BEGIN:VEVENT
DTSTART;VALUE=DATE:20261011
DTEND;VALUE=DATE:20261012
DTSTAMP:20260422T182332
CREATED:20260126T202806Z
LAST-MODIFIED:20260126T202806Z
UID:1978-1791676800-1791763199@crabgrassoh.com
SUMMARY:Apple Butter Festival
DESCRIPTION:
URL:http://crabgrassoh.com/event/apple-butter-festival
LOCATION:Apple Butter Festival\, 24232 Front St\, Grand Rapids\, OH\, 43522\, United States
END:VEVENT
END:VCALENDAR